BEGIN:VCALENDAR
VERSION:2.0
PRODID:-//HATS OFF TO SPRING TICKETS...May 6, 2026.  The Ritz Charles, Carmel IN - ECPv6.15.20//NONSGML v1.0//EN
CALSCALE:GREGORIAN
METHOD:PUBLISH
X-ORIGINAL-URL:https://staugustinehomeguild.org
X-WR-CALDESC:Events for HATS OFF TO SPRING TICKETS...May 6, 2026.  The Ritz Charles, Carmel IN
REFRESH-INTERVAL;VALUE=DURATION:PT1H
X-Robots-Tag:noindex
X-PUBLISHED-TTL:PT1H
BEGIN:VTIMEZONE
TZID:UTC
BEGIN:STANDARD
TZOFFSETFROM:+0000
TZOFFSETTO:+0000
TZNAME:UTC
DTSTART:20250101T000000
END:STANDARD
END:VTIMEZONE
BEGIN:VEVENT
DTSTART;TZID=UTC:20260325T114500
DTEND;TZID=UTC:20260325T140000
DTSTAMP:20260423T173520
CREATED:20260317T213355Z
LAST-MODIFIED:20260317T213355Z
UID:1767-1774439100-1774447200@staugustinehomeguild.org
SUMMARY:March General Membership Meeting
DESCRIPTION:Mark your calendar for Wednesday\, March 25\, at 11:45 am in Lanagan Hall for the March meeting of the St. Augustine Home Guild. \nWe’ll begin with social time\, followed by a simple Lenten soup and bread lunch\, a brief business meeting\, and then a delightful presentation by SAHG’s own Mary Anne Barothy: “A Day to Remember…Doris Day” \nMary Anne will share her fun and inspiring story of how a star-struck young girl from\nIndianapolis followed her dream all the way to the home of Doris Day in Beverly Hills. Her memories offer a charming glimpse of American cultural history and a beautiful reminder that we are never too old to dream. \nCome enjoy fellowship\, a simple Lenten meal\, and an uplifting story about courage\, friendship\, and following your dreams. \n  \nMeeting Schedule\n11:45 am – Social Time\n12:15 pm – Lenten Soup & Bread\n12:45 pm – Guild Meeting\n1:00 pm – A Day to Remember…Doris Day \nClick the button below to sign up!
URL:https://staugustinehomeguild.org/event/march-general-membership-meeting/
LOCATION:St. Augustine Home\, 2345 W 86th St.\, Indianapolis\, IN\, 46060\, United States
CATEGORIES:General Membership Meeting
ATTACH;FMTTYPE=image/jpeg:https://staugustinehomeguild.org/wp-content/uploads/2026/03/516s2yOgnDL._SY342_.jpg
END:VEVENT
END:VCALENDAR