BEGIN:VCALENDAR
VERSION:2.0
PRODID:-//HATS OFF TO SPRING TICKETS...May 6, 2026.  The Ritz Charles, Carmel IN - ECPv6.15.20//NONSGML v1.0//EN
CALSCALE:GREGORIAN
METHOD:PUBLISH
X-ORIGINAL-URL:https://staugustinehomeguild.org
X-WR-CALDESC:Events for HATS OFF TO SPRING TICKETS...May 6, 2026.  The Ritz Charles, Carmel IN
REFRESH-INTERVAL;VALUE=DURATION:PT1H
X-Robots-Tag:noindex
X-PUBLISHED-TTL:PT1H
BEGIN:VTIMEZONE
TZID:UTC
BEGIN:STANDARD
TZOFFSETFROM:+0000
TZOFFSETTO:+0000
TZNAME:UTC
DTSTART:20250101T000000
END:STANDARD
END:VTIMEZONE
BEGIN:VEVENT
DTSTART;TZID=UTC:20260225T090000
DTEND;TZID=UTC:20260225T114500
DTSTAMP:20260423T190007
CREATED:20260317T212820Z
LAST-MODIFIED:20260317T212820Z
UID:1765-1772010000-1772019900@staugustinehomeguild.org
SUMMARY:Morning of Reflection
DESCRIPTION:
URL:https://staugustinehomeguild.org/event/morning-of-reflection-4/
LOCATION:St. Luke Catholic Church\, 7575 Holliday Dr. E\, Indianapolis\, IN\, 46260\, United States
END:VEVENT
END:VCALENDAR