BEGIN:VCALENDAR
VERSION:2.0
PRODID:-//HATS OFF TO SPRING TICKETS...May 6, 2026.  The Ritz Charles, Carmel IN - ECPv6.15.20//NONSGML v1.0//EN
CALSCALE:GREGORIAN
METHOD:PUBLISH
X-ORIGINAL-URL:https://staugustinehomeguild.org
X-WR-CALDESC:Events for HATS OFF TO SPRING TICKETS...May 6, 2026.  The Ritz Charles, Carmel IN
REFRESH-INTERVAL;VALUE=DURATION:PT1H
X-Robots-Tag:noindex
X-PUBLISHED-TTL:PT1H
BEGIN:VTIMEZONE
TZID:UTC
BEGIN:STANDARD
TZOFFSETFROM:+0000
TZOFFSETTO:+0000
TZNAME:UTC
DTSTART:20240101T000000
END:STANDARD
END:VTIMEZONE
BEGIN:VEVENT
DTSTART;TZID=UTC:20250611T114500
DTEND;TZID=UTC:20250611T130000
DTSTAMP:20260424T061012
CREATED:20250106T214748Z
LAST-MODIFIED:20250507T214016Z
UID:1525-1749642300-1749646800@staugustinehomeguild.org
SUMMARY:June General Meeting
DESCRIPTION:General Meeting of Guild Members \nCatered lunch by Cater Me Cafe \n11:45 am Social Time in Lanagan Hall\, St. Augustine Home\n12:15 pm Lunch followed by Meeting of St. Augustine Home Guild \nVisit with friends and make new ones!\nSee the Little Sisters of the Poor receive a BIG HOTS CHECK!!\nCatch up on news from St. Augustine Home Guild \nInterested in joining the Guild? You are welcome to join us! \nEntree: \nSandwiches\nVegetable Salad\nCaesar Salad\nFruit and Dessert \n1.Reserve your spot here: Click here to make your reservation!! \n2. Follow the link to pay online here: \nClick to Pay by credit card!\nPay by check and mail to: \nSt. Augustine Home Guild \nP.O. Box 90211 \nIndianapolis\, IN 46290 \nPlease write “June Meeting” in the memo line \n\nWe look forward to seeing you!
URL:https://staugustinehomeguild.org/event/june-general-meeting-2/
END:VEVENT
BEGIN:VEVENT
DTSTART;TZID=UTC:20250614T143000
DTEND;TZID=UTC:20250614T160000
DTSTAMP:20260424T061012
CREATED:20250106T214920Z
LAST-MODIFIED:20250106T214920Z
UID:1528-1749911400-1749916800@staugustinehomeguild.org
SUMMARY:Ice Cream Social
DESCRIPTION:Ice Cream Social on Lanagan Hall Patio
URL:https://staugustinehomeguild.org/event/ice-cream-social-2/
END:VEVENT
END:VCALENDAR