BEGIN:VCALENDAR
VERSION:2.0
PRODID:-//HATS OFF TO SPRING TICKETS...May 6, 2026.  The Ritz Charles, Carmel IN - ECPv6.15.20//NONSGML v1.0//EN
CALSCALE:GREGORIAN
METHOD:PUBLISH
X-WR-CALNAME:HATS OFF TO SPRING TICKETS...May 6, 2026.  The Ritz Charles, Carmel IN
X-ORIGINAL-URL:https://staugustinehomeguild.org
X-WR-CALDESC:Events for HATS OFF TO SPRING TICKETS...May 6, 2026.  The Ritz Charles, Carmel IN
REFRESH-INTERVAL;VALUE=DURATION:PT1H
X-Robots-Tag:noindex
X-PUBLISHED-TTL:PT1H
BEGIN:VTIMEZONE
TZID:UTC
BEGIN:STANDARD
TZOFFSETFROM:+0000
TZOFFSETTO:+0000
TZNAME:UTC
DTSTART:20240101T000000
END:STANDARD
END:VTIMEZONE
BEGIN:VEVENT
DTSTART;TZID=UTC:20250420T080000
DTEND;TZID=UTC:20250420T170000
DTSTAMP:20260424T084300
CREATED:20250106T215927Z
LAST-MODIFIED:20250106T215927Z
UID:1546-1745136000-1745168400@staugustinehomeguild.org
SUMMARY:EASTER
DESCRIPTION:Easter
URL:https://staugustinehomeguild.org/event/easter/
END:VEVENT
BEGIN:VEVENT
DTSTART;TZID=UTC:20250423T143000
DTEND;TZID=UTC:20250423T163000
DTSTAMP:20260424T084300
CREATED:20250106T214033Z
LAST-MODIFIED:20250106T214033Z
UID:1520-1745418600-1745425800@staugustinehomeguild.org
SUMMARY:Happy Days Party
DESCRIPTION:Enjoy music and fun from the 1950’s!!
URL:https://staugustinehomeguild.org/event/happy-days-party-2/
END:VEVENT
END:VCALENDAR