BEGIN:VCALENDAR
VERSION:2.0
PRODID:-//HATS OFF TO SPRING TICKETS...May 6, 2026.  The Ritz Charles, Carmel IN - ECPv6.15.20//NONSGML v1.0//EN
CALSCALE:GREGORIAN
METHOD:PUBLISH
X-ORIGINAL-URL:https://staugustinehomeguild.org
X-WR-CALDESC:Events for HATS OFF TO SPRING TICKETS...May 6, 2026.  The Ritz Charles, Carmel IN
REFRESH-INTERVAL;VALUE=DURATION:PT1H
X-Robots-Tag:noindex
X-PUBLISHED-TTL:PT1H
BEGIN:VTIMEZONE
TZID:UTC
BEGIN:STANDARD
TZOFFSETFROM:+0000
TZOFFSETTO:+0000
TZNAME:UTC
DTSTART:20230101T000000
END:STANDARD
END:VTIMEZONE
BEGIN:VEVENT
DTSTART;TZID=UTC:20241204T143000
DTEND;TZID=UTC:20241204T153000
DTSTAMP:20260424T142734
CREATED:20240130T023542Z
LAST-MODIFIED:20240130T023542Z
UID:1237-1733322600-1733326200@staugustinehomeguild.org
SUMMARY:BINGO!!
DESCRIPTION:
URL:https://staugustinehomeguild.org/event/bingo-24/
LOCATION:St. Augustine Home\, 2345 W 86th St.\, Indianapolis\, IN\, 46060\, United States
END:VEVENT
BEGIN:VEVENT
DTSTART;TZID=UTC:20241211T143000
DTEND;TZID=UTC:20241211T163000
DTSTAMP:20260424T142734
CREATED:20240130T020751Z
LAST-MODIFIED:20240130T020751Z
UID:1190-1733927400-1733934600@staugustinehomeguild.org
SUMMARY:Resident Christmas Party
DESCRIPTION:Resident Christmas Party in Lanagan Hall 2:30 pm
URL:https://staugustinehomeguild.org/event/resident-christmas-party/
LOCATION:St. Augustine Home\, 2345 W 86th St.\, Indianapolis\, IN\, 46060\, United States
END:VEVENT
BEGIN:VEVENT
DTSTART;TZID=UTC:20241213T100000
DTEND;TZID=UTC:20241224T110000
DTSTAMP:20260424T142734
CREATED:20240130T021238Z
LAST-MODIFIED:20240130T021238Z
UID:1192-1734084000-1735038000@staugustinehomeguild.org
SUMMARY:12 Days of Christmas
DESCRIPTION:
URL:https://staugustinehomeguild.org/event/12-days-of-christmas/
CATEGORIES:Resident Events
END:VEVENT
END:VCALENDAR