BEGIN:VCALENDAR
VERSION:2.0
PRODID:-//HATS OFF TO SPRING TICKETS...May 6, 2026.  The Ritz Charles, Carmel IN - ECPv6.15.20//NONSGML v1.0//EN
CALSCALE:GREGORIAN
METHOD:PUBLISH
X-WR-CALNAME:HATS OFF TO SPRING TICKETS...May 6, 2026.  The Ritz Charles, Carmel IN
X-ORIGINAL-URL:https://staugustinehomeguild.org
X-WR-CALDESC:Events for HATS OFF TO SPRING TICKETS...May 6, 2026.  The Ritz Charles, Carmel IN
REFRESH-INTERVAL;VALUE=DURATION:PT1H
X-Robots-Tag:noindex
X-PUBLISHED-TTL:PT1H
BEGIN:VTIMEZONE
TZID:UTC
BEGIN:STANDARD
TZOFFSETFROM:+0000
TZOFFSETTO:+0000
TZNAME:UTC
DTSTART:20230101T000000
END:STANDARD
END:VTIMEZONE
BEGIN:VEVENT
DTSTART;TZID=UTC:20241106T143000
DTEND;TZID=UTC:20241106T153000
DTSTAMP:20260424T155728
CREATED:20240130T023436Z
LAST-MODIFIED:20240130T023436Z
UID:1233-1730903400-1730907000@staugustinehomeguild.org
SUMMARY:BINGO!!
DESCRIPTION:
URL:https://staugustinehomeguild.org/event/bingo-22/
LOCATION:St. Augustine Home\, 2345 W 86th St.\, Indianapolis\, IN\, 46060\, United States
END:VEVENT
BEGIN:VEVENT
DTSTART;TZID=UTC:20241113T100000
DTEND;TZID=UTC:20241113T120000
DTSTAMP:20260424T155728
CREATED:20240130T020636Z
LAST-MODIFIED:20240130T020636Z
UID:1188-1731492000-1731499200@staugustinehomeguild.org
SUMMARY:Annual Meeting
DESCRIPTION:10:00 am Lanagan Hall
URL:https://staugustinehomeguild.org/event/annual-meeting/
LOCATION:St. Augustine Home\, 2345 W 86th St.\, Indianapolis\, IN\, 46060\, United States
END:VEVENT
BEGIN:VEVENT
DTSTART;TZID=UTC:20241127T143000
DTEND;TZID=UTC:20241127T153000
DTSTAMP:20260424T155728
CREATED:20240130T023508Z
LAST-MODIFIED:20240130T023508Z
UID:1235-1732717800-1732721400@staugustinehomeguild.org
SUMMARY:BINGO!!
DESCRIPTION:
URL:https://staugustinehomeguild.org/event/bingo-23/
LOCATION:St. Augustine Home\, 2345 W 86th St.\, Indianapolis\, IN\, 46060\, United States
END:VEVENT
END:VCALENDAR