BEGIN:VCALENDAR
VERSION:2.0
PRODID:-//HATS OFF TO SPRING TICKETS...May 6, 2026.  The Ritz Charles, Carmel IN - ECPv6.15.20//NONSGML v1.0//EN
CALSCALE:GREGORIAN
METHOD:PUBLISH
X-WR-CALNAME:HATS OFF TO SPRING TICKETS...May 6, 2026.  The Ritz Charles, Carmel IN
X-ORIGINAL-URL:https://staugustinehomeguild.org
X-WR-CALDESC:Events for HATS OFF TO SPRING TICKETS...May 6, 2026.  The Ritz Charles, Carmel IN
REFRESH-INTERVAL;VALUE=DURATION:PT1H
X-Robots-Tag:noindex
X-PUBLISHED-TTL:PT1H
BEGIN:VTIMEZONE
TZID:UTC
BEGIN:STANDARD
TZOFFSETFROM:+0000
TZOFFSETTO:+0000
TZNAME:UTC
DTSTART:20230101T000000
END:STANDARD
END:VTIMEZONE
BEGIN:VEVENT
DTSTART;TZID=UTC:20240911T143000
DTEND;TZID=UTC:20240911T153000
DTSTAMP:20260424T185708
CREATED:20240130T023120Z
LAST-MODIFIED:20240130T023120Z
UID:1225-1726065000-1726068600@staugustinehomeguild.org
SUMMARY:BINGO!!
DESCRIPTION:
URL:https://staugustinehomeguild.org/event/bingo-18/
LOCATION:St. Augustine Home\, 2345 W 86th St.\, Indianapolis\, IN\, 46060\, United States
END:VEVENT
BEGIN:VEVENT
DTSTART;TZID=UTC:20240919T111500
DTEND;TZID=UTC:20240919T140000
DTSTAMP:20260424T185708
CREATED:20240130T020315Z
LAST-MODIFIED:20240807T151023Z
UID:1182-1726744500-1726754400@staugustinehomeguild.org
SUMMARY:September General Meeting
DESCRIPTION:11:15 am Social Time \n12:00 pm Lunch \n12:30 pm Meeting
URL:https://staugustinehomeguild.org/event/september-general-meeting/
LOCATION:Woodland Country Club\, 100 Woodland Lane\, Carmel\, IN\, 46032\, United States
END:VEVENT
BEGIN:VEVENT
DTSTART;TZID=UTC:20240925T143000
DTEND;TZID=UTC:20240925T153000
DTSTAMP:20260424T185708
CREATED:20240130T023151Z
LAST-MODIFIED:20240130T023151Z
UID:1227-1727274600-1727278200@staugustinehomeguild.org
SUMMARY:BINGO!!
DESCRIPTION:
URL:https://staugustinehomeguild.org/event/bingo-19/
LOCATION:St. Augustine Home\, 2345 W 86th St.\, Indianapolis\, IN\, 46060\, United States
END:VEVENT
END:VCALENDAR