BEGIN:VCALENDAR
VERSION:2.0
PRODID:-//HATS OFF TO SPRING TICKETS...May 6, 2026.  The Ritz Charles, Carmel IN - ECPv6.15.20//NONSGML v1.0//EN
CALSCALE:GREGORIAN
METHOD:PUBLISH
X-WR-CALNAME:HATS OFF TO SPRING TICKETS...May 6, 2026.  The Ritz Charles, Carmel IN
X-ORIGINAL-URL:https://staugustinehomeguild.org
X-WR-CALDESC:Events for HATS OFF TO SPRING TICKETS...May 6, 2026.  The Ritz Charles, Carmel IN
REFRESH-INTERVAL;VALUE=DURATION:PT1H
X-Robots-Tag:noindex
X-PUBLISHED-TTL:PT1H
BEGIN:VTIMEZONE
TZID:UTC
BEGIN:STANDARD
TZOFFSETFROM:+0000
TZOFFSETTO:+0000
TZNAME:UTC
DTSTART:20230101T000000
END:STANDARD
END:VTIMEZONE
BEGIN:VEVENT
DTSTART;TZID=UTC:20241211T143000
DTEND;TZID=UTC:20241211T163000
DTSTAMP:20260423T203150
CREATED:20240130T020751Z
LAST-MODIFIED:20240130T020751Z
UID:1190-1733927400-1733934600@staugustinehomeguild.org
SUMMARY:Resident Christmas Party
DESCRIPTION:Resident Christmas Party in Lanagan Hall 2:30 pm
URL:https://staugustinehomeguild.org/event/resident-christmas-party/
LOCATION:St. Augustine Home\, 2345 W 86th St.\, Indianapolis\, IN\, 46060\, United States
END:VEVENT
BEGIN:VEVENT
DTSTART;TZID=UTC:20241204T143000
DTEND;TZID=UTC:20241204T153000
DTSTAMP:20260423T203150
CREATED:20240130T023542Z
LAST-MODIFIED:20240130T023542Z
UID:1237-1733322600-1733326200@staugustinehomeguild.org
SUMMARY:BINGO!!
DESCRIPTION:
URL:https://staugustinehomeguild.org/event/bingo-24/
LOCATION:St. Augustine Home\, 2345 W 86th St.\, Indianapolis\, IN\, 46060\, United States
END:VEVENT
BEGIN:VEVENT
DTSTART;TZID=UTC:20241127T143000
DTEND;TZID=UTC:20241127T153000
DTSTAMP:20260423T203150
CREATED:20240130T023508Z
LAST-MODIFIED:20240130T023508Z
UID:1235-1732717800-1732721400@staugustinehomeguild.org
SUMMARY:BINGO!!
DESCRIPTION:
URL:https://staugustinehomeguild.org/event/bingo-23/
LOCATION:St. Augustine Home\, 2345 W 86th St.\, Indianapolis\, IN\, 46060\, United States
END:VEVENT
BEGIN:VEVENT
DTSTART;TZID=UTC:20241113T100000
DTEND;TZID=UTC:20241113T120000
DTSTAMP:20260423T203150
CREATED:20240130T020636Z
LAST-MODIFIED:20240130T020636Z
UID:1188-1731492000-1731499200@staugustinehomeguild.org
SUMMARY:Annual Meeting
DESCRIPTION:10:00 am Lanagan Hall
URL:https://staugustinehomeguild.org/event/annual-meeting/
LOCATION:St. Augustine Home\, 2345 W 86th St.\, Indianapolis\, IN\, 46060\, United States
END:VEVENT
BEGIN:VEVENT
DTSTART;TZID=UTC:20241106T143000
DTEND;TZID=UTC:20241106T153000
DTSTAMP:20260423T203150
CREATED:20240130T023436Z
LAST-MODIFIED:20240130T023436Z
UID:1233-1730903400-1730907000@staugustinehomeguild.org
SUMMARY:BINGO!!
DESCRIPTION:
URL:https://staugustinehomeguild.org/event/bingo-22/
LOCATION:St. Augustine Home\, 2345 W 86th St.\, Indianapolis\, IN\, 46060\, United States
END:VEVENT
BEGIN:VEVENT
DTSTART;TZID=UTC:20241030T110000
DTEND;TZID=UTC:20241030T114500
DTSTAMP:20260423T203150
CREATED:20240130T020525Z
LAST-MODIFIED:20240926T014057Z
UID:1186-1730286000-1730288700@staugustinehomeguild.org
SUMMARY:Mass of Remembrance
DESCRIPTION:11:00 am Chapel
URL:https://staugustinehomeguild.org/event/mass-of-remembrance/
LOCATION:St. Augustine Home\, 2345 W 86th St.\, Indianapolis\, IN\, 46060\, United States
END:VEVENT
BEGIN:VEVENT
DTSTART;TZID=UTC:20241023T143000
DTEND;TZID=UTC:20241023T153000
DTSTAMP:20260423T203150
CREATED:20240130T023325Z
LAST-MODIFIED:20240130T023325Z
UID:1231-1729693800-1729697400@staugustinehomeguild.org
SUMMARY:BINGO!!
DESCRIPTION:
URL:https://staugustinehomeguild.org/event/bingo-21/
LOCATION:St. Augustine Home\, 2345 W 86th St.\, Indianapolis\, IN\, 46060\, United States
END:VEVENT
BEGIN:VEVENT
DTSTART;TZID=UTC:20241009T143000
DTEND;TZID=UTC:20241009T153000
DTSTAMP:20260423T203150
CREATED:20240130T023228Z
LAST-MODIFIED:20240130T023228Z
UID:1229-1728484200-1728487800@staugustinehomeguild.org
SUMMARY:BINGO!!
DESCRIPTION:
URL:https://staugustinehomeguild.org/event/bingo-20/
LOCATION:St. Augustine Home\, 2345 W 86th St.\, Indianapolis\, IN\, 46060\, United States
END:VEVENT
BEGIN:VEVENT
DTSTART;TZID=UTC:20241002T143000
DTEND;TZID=UTC:20241002T153000
DTSTAMP:20260423T203150
CREATED:20240130T020411Z
LAST-MODIFIED:20240130T020411Z
UID:1184-1727879400-1727883000@staugustinehomeguild.org
SUMMARY:Octoberfest
DESCRIPTION:2:30 pm Lanagan Hall
URL:https://staugustinehomeguild.org/event/octoberfest/
LOCATION:St. Augustine Home\, 2345 W 86th St.\, Indianapolis\, IN\, 46060\, United States
END:VEVENT
BEGIN:VEVENT
DTSTART;TZID=UTC:20240925T143000
DTEND;TZID=UTC:20240925T153000
DTSTAMP:20260423T203150
CREATED:20240130T023151Z
LAST-MODIFIED:20240130T023151Z
UID:1227-1727274600-1727278200@staugustinehomeguild.org
SUMMARY:BINGO!!
DESCRIPTION:
URL:https://staugustinehomeguild.org/event/bingo-19/
LOCATION:St. Augustine Home\, 2345 W 86th St.\, Indianapolis\, IN\, 46060\, United States
END:VEVENT
BEGIN:VEVENT
DTSTART;TZID=UTC:20240919T111500
DTEND;TZID=UTC:20240919T140000
DTSTAMP:20260423T203150
CREATED:20240130T020315Z
LAST-MODIFIED:20240807T151023Z
UID:1182-1726744500-1726754400@staugustinehomeguild.org
SUMMARY:September General Meeting
DESCRIPTION:11:15 am Social Time \n12:00 pm Lunch \n12:30 pm Meeting
URL:https://staugustinehomeguild.org/event/september-general-meeting/
LOCATION:Woodland Country Club\, 100 Woodland Lane\, Carmel\, IN\, 46032\, United States
END:VEVENT
BEGIN:VEVENT
DTSTART;TZID=UTC:20240911T143000
DTEND;TZID=UTC:20240911T153000
DTSTAMP:20260423T203150
CREATED:20240130T023120Z
LAST-MODIFIED:20240130T023120Z
UID:1225-1726065000-1726068600@staugustinehomeguild.org
SUMMARY:BINGO!!
DESCRIPTION:
URL:https://staugustinehomeguild.org/event/bingo-18/
LOCATION:St. Augustine Home\, 2345 W 86th St.\, Indianapolis\, IN\, 46060\, United States
END:VEVENT
BEGIN:VEVENT
DTSTART;TZID=UTC:20240828T143000
DTEND;TZID=UTC:20240828T153000
DTSTAMP:20260423T203150
CREATED:20240130T023043Z
LAST-MODIFIED:20240807T150543Z
UID:1223-1724855400-1724859000@staugustinehomeguild.org
SUMMARY:BINGO Cancelled due to Feast Day!
DESCRIPTION:
URL:https://staugustinehomeguild.org/event/bingo-17/
LOCATION:St. Augustine Home\, 2345 W 86th St.\, Indianapolis\, IN\, 46060\, United States
END:VEVENT
BEGIN:VEVENT
DTSTART;TZID=UTC:20240814T143000
DTEND;TZID=UTC:20240814T153000
DTSTAMP:20260423T203150
CREATED:20240130T022854Z
LAST-MODIFIED:20240130T023013Z
UID:1220-1723645800-1723649400@staugustinehomeguild.org
SUMMARY:BINGO!!
DESCRIPTION:
URL:https://staugustinehomeguild.org/event/bingo-16/
LOCATION:St. Augustine Home\, 2345 W 86th St.\, Indianapolis\, IN\, 46060\, United States
END:VEVENT
BEGIN:VEVENT
DTSTART;TZID=UTC:20240724T143000
DTEND;TZID=UTC:20240724T153000
DTSTAMP:20260423T203150
CREATED:20240130T022819Z
LAST-MODIFIED:20240130T022819Z
UID:1218-1721831400-1721835000@staugustinehomeguild.org
SUMMARY:BINGO!!
DESCRIPTION:
URL:https://staugustinehomeguild.org/event/bingo-15/
LOCATION:St. Augustine Home\, 2345 W 86th St.\, Indianapolis\, IN\, 46060\, United States
END:VEVENT
BEGIN:VEVENT
DTSTART;TZID=UTC:20240710T143000
DTEND;TZID=UTC:20240710T153000
DTSTAMP:20260423T203150
CREATED:20240130T022751Z
LAST-MODIFIED:20240130T022751Z
UID:1216-1720621800-1720625400@staugustinehomeguild.org
SUMMARY:BINGO!!
DESCRIPTION:
URL:https://staugustinehomeguild.org/event/bingo-14/
LOCATION:St. Augustine Home\, 2345 W 86th St.\, Indianapolis\, IN\, 46060\, United States
END:VEVENT
BEGIN:VEVENT
DTSTART;TZID=UTC:20240626T143000
DTEND;TZID=UTC:20240626T153000
DTSTAMP:20260423T203150
CREATED:20240130T022716Z
LAST-MODIFIED:20240130T022716Z
UID:1214-1719412200-1719415800@staugustinehomeguild.org
SUMMARY:BINGO!!
DESCRIPTION:
URL:https://staugustinehomeguild.org/event/bingo-13/
LOCATION:St. Augustine Home\, 2345 W 86th St.\, Indianapolis\, IN\, 46060\, United States
END:VEVENT
BEGIN:VEVENT
DTSTART;TZID=UTC:20240626T143000
DTEND;TZID=UTC:20240626T153000
DTSTAMP:20260423T203150
CREATED:20240130T022647Z
LAST-MODIFIED:20240130T022647Z
UID:1212-1719412200-1719415800@staugustinehomeguild.org
SUMMARY:BINGO!!
DESCRIPTION:
URL:https://staugustinehomeguild.org/event/bingo-12/
LOCATION:St. Augustine Home\, 2345 W 86th St.\, Indianapolis\, IN\, 46060\, United States
END:VEVENT
BEGIN:VEVENT
DTSTART;TZID=UTC:20240612T143000
DTEND;TZID=UTC:20240612T153000
DTSTAMP:20260423T203150
CREATED:20240130T022609Z
LAST-MODIFIED:20240130T022609Z
UID:1210-1718202600-1718206200@staugustinehomeguild.org
SUMMARY:BINGO!!
DESCRIPTION:
URL:https://staugustinehomeguild.org/event/bingo-11/
LOCATION:St. Augustine Home\, 2345 W 86th St.\, Indianapolis\, IN\, 46060\, United States
END:VEVENT
BEGIN:VEVENT
DTSTART;TZID=UTC:20240608T143000
DTEND;TZID=UTC:20240608T153000
DTSTAMP:20260423T203150
CREATED:20240130T020142Z
LAST-MODIFIED:20240130T020142Z
UID:1180-1717857000-1717860600@staugustinehomeguild.org
SUMMARY:Ice Cream Social
DESCRIPTION:2:30 St. Augustine
URL:https://staugustinehomeguild.org/event/ice-cream-social/
LOCATION:St. Augustine Home\, 2345 W 86th St.\, Indianapolis\, IN\, 46060\, United States
END:VEVENT
BEGIN:VEVENT
DTSTART;TZID=UTC:20240605T114500
DTEND;TZID=UTC:20240605T140000
DTSTAMP:20260423T203150
CREATED:20240130T020034Z
LAST-MODIFIED:20240130T020034Z
UID:1178-1717587900-1717596000@staugustinehomeguild.org
SUMMARY:June General Meeting
DESCRIPTION:11:45 Social Time \n12:15 Lunch \n12:45 General Meeting \n 
URL:https://staugustinehomeguild.org/event/june-general-meeting/
LOCATION:St. Augustine Home\, 2345 W 86th St.\, Indianapolis\, IN\, 46060\, United States
END:VEVENT
BEGIN:VEVENT
DTSTART;TZID=UTC:20240522T143000
DTEND;TZID=UTC:20240522T153000
DTSTAMP:20260423T203150
CREATED:20240130T022441Z
LAST-MODIFIED:20240130T022441Z
UID:1208-1716388200-1716391800@staugustinehomeguild.org
SUMMARY:BINGO!!
DESCRIPTION:
URL:https://staugustinehomeguild.org/event/bingo-10/
LOCATION:St. Augustine Home\, 2345 W 86th St.\, Indianapolis\, IN\, 46060\, United States
END:VEVENT
BEGIN:VEVENT
DTSTART;TZID=UTC:20240508T143000
DTEND;TZID=UTC:20240508T153000
DTSTAMP:20260423T203150
CREATED:20240130T022414Z
LAST-MODIFIED:20240130T022414Z
UID:1206-1715178600-1715182200@staugustinehomeguild.org
SUMMARY:BINGO!!
DESCRIPTION:
URL:https://staugustinehomeguild.org/event/bingo-9/
LOCATION:St. Augustine Home\, 2345 W 86th St.\, Indianapolis\, IN\, 46060\, United States
END:VEVENT
BEGIN:VEVENT
DTSTART;TZID=UTC:20240501T100000
DTEND;TZID=UTC:20240501T133000
DTSTAMP:20260423T203150
CREATED:20240130T015856Z
LAST-MODIFIED:20240130T015856Z
UID:1176-1714557600-1714570200@staugustinehomeguild.org
SUMMARY:Hats Off To Spring (HOTS)
DESCRIPTION:10:00 am Social Hour \n12:00 pm Luncheon \n 
URL:https://staugustinehomeguild.org/event/hats-off-to-spring-hots/
LOCATION:Ritz Charles\, 12156 N. Meridian St.\, Carmel\, IN\, 46032\, United States
END:VEVENT
BEGIN:VEVENT
DTSTART;TZID=UTC:20240424T143000
DTEND;TZID=UTC:20240424T153000
DTSTAMP:20260423T203150
CREATED:20240130T022347Z
LAST-MODIFIED:20240130T022347Z
UID:1204-1713969000-1713972600@staugustinehomeguild.org
SUMMARY:BINGO!!
DESCRIPTION:
URL:https://staugustinehomeguild.org/event/bingo-8/
LOCATION:St. Augustine Home\, 2345 W 86th St.\, Indianapolis\, IN\, 46060\, United States
END:VEVENT
BEGIN:VEVENT
DTSTART;TZID=UTC:20240417T143000
DTEND;TZID=UTC:20240417T153000
DTSTAMP:20260423T203150
CREATED:20240130T015618Z
LAST-MODIFIED:20240130T015618Z
UID:1174-1713364200-1713367800@staugustinehomeguild.org
SUMMARY:Happy Days Party
DESCRIPTION:
URL:https://staugustinehomeguild.org/event/happy-days-party/
LOCATION:St. Augustine Home\, 2345 W 86th St.\, Indianapolis\, IN\, 46060\, United States
CATEGORIES:Resident Events
END:VEVENT
BEGIN:VEVENT
DTSTART;TZID=UTC:20240410T143000
DTEND;TZID=UTC:20240410T153000
DTSTAMP:20260423T203150
CREATED:20240130T022314Z
LAST-MODIFIED:20240130T022314Z
UID:1202-1712759400-1712763000@staugustinehomeguild.org
SUMMARY:BINGO!!
DESCRIPTION:
URL:https://staugustinehomeguild.org/event/bingo-7/
LOCATION:St. Augustine Home\, 2345 W 86th St.\, Indianapolis\, IN\, 46060\, United States
END:VEVENT
BEGIN:VEVENT
DTSTART;TZID=UTC:20240327T143000
DTEND;TZID=UTC:20240327T153000
DTSTAMP:20260423T203150
CREATED:20240130T022210Z
LAST-MODIFIED:20240130T022210Z
UID:1200-1711549800-1711553400@staugustinehomeguild.org
SUMMARY:BINGO!!
DESCRIPTION:
URL:https://staugustinehomeguild.org/event/bingo-6/
LOCATION:St. Augustine Home\, 2345 W 86th St.\, Indianapolis\, IN\, 46060\, United States
END:VEVENT
BEGIN:VEVENT
DTSTART;TZID=UTC:20240320T114500
DTEND;TZID=UTC:20240320T134500
DTSTAMP:20260423T203150
CREATED:20240130T015358Z
LAST-MODIFIED:20240130T015358Z
UID:1171-1710935100-1710942300@staugustinehomeguild.org
SUMMARY:March General Meeting
DESCRIPTION:Lanagan Hall \n11:45 Social Hour \n12:00 pm Simple Lenten Meal \n12:45 pm Guild Meeting
URL:https://staugustinehomeguild.org/event/march-general-meeting/
LOCATION:St. Augustine Home\, 2345 W 86th St.\, Indianapolis\, IN\, 46060\, United States
END:VEVENT
BEGIN:VEVENT
DTSTART;TZID=UTC:20240313T143000
DTEND;TZID=UTC:20240313T153000
DTSTAMP:20260423T203150
CREATED:20240130T022119Z
LAST-MODIFIED:20240130T022119Z
UID:1198-1710340200-1710343800@staugustinehomeguild.org
SUMMARY:BINGO!!
DESCRIPTION:
URL:https://staugustinehomeguild.org/event/bingo-5/
LOCATION:St. Augustine Home\, 2345 W 86th St.\, Indianapolis\, IN\, 46060\, United States
END:VEVENT
END:VCALENDAR