BEGIN:VCALENDAR
VERSION:2.0
PRODID:-//HATS OFF TO SPRING TICKETS...May 6, 2026.  The Ritz Charles, Carmel IN - ECPv6.15.20//NONSGML v1.0//EN
CALSCALE:GREGORIAN
METHOD:PUBLISH
X-ORIGINAL-URL:https://staugustinehomeguild.org
X-WR-CALDESC:Events for HATS OFF TO SPRING TICKETS...May 6, 2026.  The Ritz Charles, Carmel IN
REFRESH-INTERVAL;VALUE=DURATION:PT1H
X-Robots-Tag:noindex
X-PUBLISHED-TTL:PT1H
BEGIN:VTIMEZONE
TZID:UTC
BEGIN:STANDARD
TZOFFSETFROM:+0000
TZOFFSETTO:+0000
TZNAME:UTC
DTSTART:20250101T000000
END:STANDARD
END:VTIMEZONE
BEGIN:VEVENT
DTSTART;TZID=UTC:20260603T114500
DTEND;TZID=UTC:20260603T134500
DTSTAMP:20260423T232506
CREATED:20260317T215331Z
LAST-MODIFIED:20260317T215510Z
UID:1777-1780487100-1780494300@staugustinehomeguild.org
SUMMARY:June General Meeting
DESCRIPTION:June General Meeting \n  \nPlease join us for our June General Meeting with LUNCH catered by Cater Me Cafe. \n11:45 am       Meet and Greet \n12:15 pm.      Lunch catered by Cater Me Cafe ($15.00) \n1:00 pm         June General Membership Meeting \nVisit with friends and make new ones!\nSee the Little Sisters of the Poor receive a BIG HOTS CHECK!!\nCatch up on news from St. Augustine Home Guild \nKnow of someone interested in joining the Guild? You are welcome to join us! \nSandwiches\nVegetable Salad\nCaesar Salad\nFruit\nDessert
URL:https://staugustinehomeguild.org/event/june-general-meeting-3/
ATTACH;FMTTYPE=image/jpeg:https://staugustinehomeguild.org/wp-content/uploads/2026/03/314ef369-3727-4154-841e-92fbae22734b.jpg
END:VEVENT
END:VCALENDAR