BEGIN:VCALENDAR
VERSION:2.0
PRODID:-//HATS OFF TO SPRING TICKETS...May 6, 2026.  The Ritz Charles, Carmel IN - ECPv6.15.20//NONSGML v1.0//EN
CALSCALE:GREGORIAN
METHOD:PUBLISH
X-WR-CALNAME:HATS OFF TO SPRING TICKETS...May 6, 2026.  The Ritz Charles, Carmel IN
X-ORIGINAL-URL:https://staugustinehomeguild.org
X-WR-CALDESC:Events for HATS OFF TO SPRING TICKETS...May 6, 2026.  The Ritz Charles, Carmel IN
REFRESH-INTERVAL;VALUE=DURATION:PT1H
X-Robots-Tag:noindex
X-PUBLISHED-TTL:PT1H
BEGIN:VTIMEZONE
TZID:UTC
BEGIN:STANDARD
TZOFFSETFROM:+0000
TZOFFSETTO:+0000
TZNAME:UTC
DTSTART:20250101T000000
END:STANDARD
END:VTIMEZONE
BEGIN:VEVENT
DTSTART;TZID=UTC:20260422T143000
DTEND;TZID=UTC:20260422T163000
DTSTAMP:20260423T232151
CREATED:20260317T213703Z
LAST-MODIFIED:20260317T213807Z
UID:1770-1776868200-1776875400@staugustinehomeguild.org
SUMMARY:Happy Days Party
DESCRIPTION:Enjoy the sounds and laughter of the 1950’s as we Rock Around the Clock!!
URL:https://staugustinehomeguild.org/event/happy-days-party-3/
ATTACH;FMTTYPE=image/jpeg:https://staugustinehomeguild.org/wp-content/uploads/2026/03/APZ_5369.jpg
END:VEVENT
BEGIN:VEVENT
DTSTART;TZID=UTC:20260506T100000
DTEND;TZID=UTC:20260506T140000
DTSTAMP:20260423T232151
CREATED:20260317T214504Z
LAST-MODIFIED:20260317T214636Z
UID:1774-1778061600-1778076000@staugustinehomeguild.org
SUMMARY:Hats Off to Spring
DESCRIPTION:Please join us for the EVENT of the year. This sole fundraiser for the Guild is an exciting day of shopping\, Our St. Augustine Home Guild Hats Off to Spring Luncheon and Style Show will be held on Wednesday\, May 6\, 2026\, at the Ritz Charles. This year we celebrate the Little Sisters and Residents as “Companions on Our Journey.” \nThanks to your incredible generosity\, last year’s event raised more than $135\,000 to purchase a 14-passenger accessible bus for the Home. This year\, the Sisters hope to complete their transportation needs by adding a smaller\, safe\, and cost-efficient mobility-accessible vehicle to assist Residents traveling to appointments. Any funds raised beyond the vehicle cost will support additional needs of the Home. \nAs we journey through Lent\, please consider a Hats Off to Spring (HOTS) Patron Donation as a meaningful opportunity for Lenten almsgiving. 100% of Patron Donations go directly to the Little Sisters\, and all contributions are tax\ndeductible.
URL:https://staugustinehomeguild.org/event/hats-off-to-spring-2/
CATEGORIES:Fundraiser - SAHG
ATTACH;FMTTYPE=image/png:https://staugustinehomeguild.org/wp-content/uploads/2026/03/Screenshot-2026-03-17-at-5.44.22-PM.png
END:VEVENT
BEGIN:VEVENT
DTSTART;TZID=UTC:20260603T114500
DTEND;TZID=UTC:20260603T134500
DTSTAMP:20260423T232151
CREATED:20260317T215331Z
LAST-MODIFIED:20260317T215510Z
UID:1777-1780487100-1780494300@staugustinehomeguild.org
SUMMARY:June General Meeting
DESCRIPTION:June General Meeting \n  \nPlease join us for our June General Meeting with LUNCH catered by Cater Me Cafe. \n11:45 am       Meet and Greet \n12:15 pm.      Lunch catered by Cater Me Cafe ($15.00) \n1:00 pm         June General Membership Meeting \nVisit with friends and make new ones!\nSee the Little Sisters of the Poor receive a BIG HOTS CHECK!!\nCatch up on news from St. Augustine Home Guild \nKnow of someone interested in joining the Guild? You are welcome to join us! \nSandwiches\nVegetable Salad\nCaesar Salad\nFruit\nDessert
URL:https://staugustinehomeguild.org/event/june-general-meeting-3/
ATTACH;FMTTYPE=image/jpeg:https://staugustinehomeguild.org/wp-content/uploads/2026/03/314ef369-3727-4154-841e-92fbae22734b.jpg
END:VEVENT
END:VCALENDAR