BEGIN:VCALENDAR
VERSION:2.0
PRODID:-//HATS OFF TO SPRING TICKETS...May 6, 2026.  The Ritz Charles, Carmel IN - ECPv6.15.20//NONSGML v1.0//EN
CALSCALE:GREGORIAN
METHOD:PUBLISH
X-WR-CALNAME:HATS OFF TO SPRING TICKETS...May 6, 2026.  The Ritz Charles, Carmel IN
X-ORIGINAL-URL:https://staugustinehomeguild.org
X-WR-CALDESC:Events for HATS OFF TO SPRING TICKETS...May 6, 2026.  The Ritz Charles, Carmel IN
REFRESH-INTERVAL;VALUE=DURATION:PT1H
X-Robots-Tag:noindex
X-PUBLISHED-TTL:PT1H
BEGIN:VTIMEZONE
TZID:UTC
BEGIN:STANDARD
TZOFFSETFROM:+0000
TZOFFSETTO:+0000
TZNAME:UTC
DTSTART:20220101T000000
END:STANDARD
END:VTIMEZONE
BEGIN:VEVENT
DTSTART;TZID=UTC:20241213T100000
DTEND;TZID=UTC:20241224T110000
DTSTAMP:20260423T234349
CREATED:20240130T021238Z
LAST-MODIFIED:20240130T021238Z
UID:1192-1734084000-1735038000@staugustinehomeguild.org
SUMMARY:12 Days of Christmas
DESCRIPTION:
URL:https://staugustinehomeguild.org/event/12-days-of-christmas/
CATEGORIES:Resident Events
END:VEVENT
BEGIN:VEVENT
DTSTART;TZID=UTC:20240417T143000
DTEND;TZID=UTC:20240417T153000
DTSTAMP:20260423T234349
CREATED:20240130T015618Z
LAST-MODIFIED:20240130T015618Z
UID:1174-1713364200-1713367800@staugustinehomeguild.org
SUMMARY:Happy Days Party
DESCRIPTION:
URL:https://staugustinehomeguild.org/event/happy-days-party/
LOCATION:St. Augustine Home\, 2345 W 86th St.\, Indianapolis\, IN\, 46060\, United States
CATEGORIES:Resident Events
END:VEVENT
BEGIN:VEVENT
DTSTART;TZID=UTC:20231213T143000
DTEND;TZID=UTC:20231213T160000
DTSTAMP:20260423T234349
CREATED:20230605T130653Z
LAST-MODIFIED:20230903T132629Z
UID:1015-1702477800-1702483200@staugustinehomeguild.org
SUMMARY:Resident Christmas Party
DESCRIPTION:
URL:https://staugustinehomeguild.org/event/resident-christmas-party-3/
LOCATION:St. Augustine Home\, 2345 W 86th St.\, Indianapolis\, IN\, 46060\, United States
CATEGORIES:Resident Events
END:VEVENT
BEGIN:VEVENT
DTSTART;TZID=UTC:20231004T143000
DTEND;TZID=UTC:20231004T160000
DTSTAMP:20260423T234349
CREATED:20230605T130319Z
LAST-MODIFIED:20230903T222406Z
UID:1009-1696429800-1696435200@staugustinehomeguild.org
SUMMARY:Oktoberfest
DESCRIPTION:
URL:https://staugustinehomeguild.org/event/oktoberfest-3/
LOCATION:St. Augustine Home\, 2345 W 86th St.\, Indianapolis\, IN\, 46060\, United States
CATEGORIES:Resident Events
END:VEVENT
BEGIN:VEVENT
DTSTART;TZID=UTC:20230628T133000
DTEND;TZID=UTC:20230628T143000
DTSTAMP:20260423T234349
CREATED:20230605T125741Z
LAST-MODIFIED:20230612T141912Z
UID:1002-1687959000-1687962600@staugustinehomeguild.org
SUMMARY:BINGO!
DESCRIPTION:Join us and volunteer to help the residents with their Bingo game. Use the link to sign up to volunteer.
URL:https://staugustinehomeguild.org/event/bingo-2/
LOCATION:St. Augustine Home\, 2345 W 86th St.\, Indianapolis\, IN\, 46060\, United States
CATEGORIES:Resident Events
ORGANIZER;CN="Lucinda Blackwell":MAILTO:lucybubg33@att.net
END:VEVENT
BEGIN:VEVENT
DTSTART;TZID=UTC:20230621T133000
DTEND;TZID=UTC:20230621T143000
DTSTAMP:20260423T234349
CREATED:20230605T125542Z
LAST-MODIFIED:20230612T141947Z
UID:1000-1687354200-1687357800@staugustinehomeguild.org
SUMMARY:BINGO!
DESCRIPTION:Join us as a volunteer to help the residents with their Bingo game. Use the link to register to volunteer.
URL:https://staugustinehomeguild.org/event/bingo/
LOCATION:St. Augustine Home\, 2345 W 86th St.\, Indianapolis\, IN\, 46060\, United States
CATEGORIES:Resident Events
ORGANIZER;CN="Lucinda Blackwell":MAILTO:lucybubg33@att.net
END:VEVENT
END:VCALENDAR