BEGIN:VCALENDAR
VERSION:2.0
PRODID:-//HATS OFF TO SPRING TICKETS...May 6, 2026.  The Ritz Charles, Carmel IN - ECPv6.15.20//NONSGML v1.0//EN
CALSCALE:GREGORIAN
METHOD:PUBLISH
X-WR-CALNAME:HATS OFF TO SPRING TICKETS...May 6, 2026.  The Ritz Charles, Carmel IN
X-ORIGINAL-URL:https://staugustinehomeguild.org
X-WR-CALDESC:Events for HATS OFF TO SPRING TICKETS...May 6, 2026.  The Ritz Charles, Carmel IN
REFRESH-INTERVAL;VALUE=DURATION:PT1H
X-Robots-Tag:noindex
X-PUBLISHED-TTL:PT1H
BEGIN:VTIMEZONE
TZID:UTC
BEGIN:STANDARD
TZOFFSETFROM:+0000
TZOFFSETTO:+0000
TZNAME:UTC
DTSTART:20220101T000000
END:STANDARD
END:VTIMEZONE
BEGIN:VEVENT
DTSTART;TZID=UTC:20230503T103000
DTEND;TZID=UTC:20230503T133000
DTSTAMP:20260423T190742
CREATED:20220904T161243Z
LAST-MODIFIED:20220904T161243Z
UID:882-1683109800-1683120600@staugustinehomeguild.org
SUMMARY:Hats Off to Spring 2023
DESCRIPTION:The Saint Augustine Home Guild’s largest annual fundraising event\, the Hats Off to Spring (HOTS) Luncheon and Fashion Show is held the first Wednesday in May. \nWe are grateful to our generous sponsors and Guild members who are listed on our website and various HOTS Committee members who covered fundraising expenses. We appreciate all those in our community who responded to our appeal. \n\nInterested in a sponsorship or advertising in our program\, contact co-chair\, Linda Bear\, 317-408-8580. \nSAVE THE DATE:  Wednesday\, May 3\, 2023 for Hats Off to Spring to be held at the Ritz Charles in Carmel.
URL:https://staugustinehomeguild.org/event/hats-off-to-spring-2023/
LOCATION:Ritz Charles\, 12156 N. Meridian St.\, Carmel\, IN\, 46032\, United States
CATEGORIES:Fundraiser - SAHG
END:VEVENT
END:VCALENDAR