BEGIN:VCALENDAR
VERSION:2.0
PRODID:-//HATS OFF TO SPRING TICKETS...May 6, 2026.  The Ritz Charles, Carmel IN - ECPv6.15.20//NONSGML v1.0//EN
CALSCALE:GREGORIAN
METHOD:PUBLISH
X-ORIGINAL-URL:https://staugustinehomeguild.org
X-WR-CALDESC:Events for HATS OFF TO SPRING TICKETS...May 6, 2026.  The Ritz Charles, Carmel IN
REFRESH-INTERVAL;VALUE=DURATION:PT1H
X-Robots-Tag:noindex
X-PUBLISHED-TTL:PT1H
BEGIN:VTIMEZONE
TZID:UTC
BEGIN:STANDARD
TZOFFSETFROM:+0000
TZOFFSETTO:+0000
TZNAME:UTC
DTSTART:20240101T000000
END:STANDARD
END:VTIMEZONE
BEGIN:VEVENT
DTSTART;TZID=UTC:20250326T114500
DTEND;TZID=UTC:20250326T124500
DTSTAMP:20260424T113654
CREATED:20250106T213934Z
LAST-MODIFIED:20250106T213934Z
UID:1518-1742989500-1742993100@staugustinehomeguild.org
SUMMARY:March General Meeting
DESCRIPTION:General Meeting of all Guild Members
URL:https://staugustinehomeguild.org/event/march-general-meeting-2/
END:VEVENT
END:VCALENDAR