BEGIN:VCALENDAR
VERSION:2.0
PRODID:-//HATS OFF TO SPRING TICKETS...May 6, 2026.  The Ritz Charles, Carmel IN - ECPv6.15.20//NONSGML v1.0//EN
CALSCALE:GREGORIAN
METHOD:PUBLISH
X-ORIGINAL-URL:https://staugustinehomeguild.org
X-WR-CALDESC:Events for HATS OFF TO SPRING TICKETS...May 6, 2026.  The Ritz Charles, Carmel IN
REFRESH-INTERVAL;VALUE=DURATION:PT1H
X-Robots-Tag:noindex
X-PUBLISHED-TTL:PT1H
BEGIN:VTIMEZONE
TZID:UTC
BEGIN:STANDARD
TZOFFSETFROM:+0000
TZOFFSETTO:+0000
TZNAME:UTC
DTSTART:20230101T000000
END:STANDARD
END:VTIMEZONE
BEGIN:VEVENT
DTSTART;TZID=UTC:20240320T114500
DTEND;TZID=UTC:20240320T134500
DTSTAMP:20260425T034816
CREATED:20240130T015358Z
LAST-MODIFIED:20240130T015358Z
UID:1171-1710935100-1710942300@staugustinehomeguild.org
SUMMARY:March General Meeting
DESCRIPTION:Lanagan Hall \n11:45 Social Hour \n12:00 pm Simple Lenten Meal \n12:45 pm Guild Meeting
URL:https://staugustinehomeguild.org/event/march-general-meeting/
LOCATION:St. Augustine Home\, 2345 W 86th St.\, Indianapolis\, IN\, 46060\, United States
END:VEVENT
END:VCALENDAR